BEGIN:VCALENDAR
VERSION:2.0
METHOD:PUBLISH
BEGIN:VEVENT
DTSTART:20230923T130000Z
DTEND:20230924T180000Z
LOCATION:Alexandria, VA 22306
TRANSP: OPAQUE
SEQUENCE:0
UID:
DTSTAMP:20260423T121655Z
SUMMARY:Treasures of Long-Time Resident (Beacon Hill Alexandria
DESCRIPTION:Treasures of Long-Time Resident (Beacon Hill Alexandria Dixie Charm Estate Sales 
UID:1776968215
STREET-ADDRESS:See website
POSTAL-CODE:22306
LOCALITY:Alexandria
REGION:ABBREV=VA
COUNTRY:ABBREV=US;ABBREV=USA:United States
URL;TYPE=Event Listing:https://estatesales.org/estate-sales/va/alexandria/22306/treasures-of-longtime-resident-beacon-2227551
PRIORITY:1
CLASS:PUBLIC
SEQUENCE:0
STATUS:CONFIRMED
TRANSP:OPAQUE
END:VEVENT
END:VCALENDAR
