BEGIN:VCALENDAR
VERSION:2.0
METHOD:PUBLISH
BEGIN:VEVENT
DTSTART:20230923T130000Z
DTEND:20230924T180000Z
LOCATION:Gloucester City, NJ 08030
TRANSP: OPAQUE
SEQUENCE:0
UID:
DTSTAMP:20260419T163230Z
SUMMARY:Gathering in Gloucester City were Pouring on the deals!
DESCRIPTION:Gathering in Gloucester City were Pouring on the deals! Estate of Grace 
UID:1776637950
STREET-ADDRESS:See website
POSTAL-CODE:08030
LOCALITY:Gloucester City
REGION:ABBREV=NJ
COUNTRY:ABBREV=US;ABBREV=USA:United States
URL;TYPE=Event Listing:https://estatesales.org/estate-sales/nj/gloucester-city/08030/gathering-in-gloucester-city-were-2225539
PRIORITY:1
CLASS:PUBLIC
SEQUENCE:0
STATUS:CONFIRMED
TRANSP:OPAQUE
END:VEVENT
END:VCALENDAR
