BEGIN:VCALENDAR
VERSION:2.0
METHOD:PUBLISH
BEGIN:VEVENT
DTSTART:20170923T150000Z
DTEND:20170924T220000Z
LOCATION:Gig Harbor, WA 98332
TRANSP: OPAQUE
SEQUENCE:0
UID:
DTSTAMP:20260424T133527Z
SUMMARY:Gig Harbor Estate Sale
DESCRIPTION:Gig Harbor Estate Sale P W Green Antiques & Estate Sales 
UID:1777059327
STREET-ADDRESS:See website
POSTAL-CODE:98332
LOCALITY:Gig Harbor
REGION:ABBREV=WA
COUNTRY:ABBREV=US;ABBREV=USA:United States
URL;TYPE=Event Listing:https://estatesales.org/estate-sales/wa/gig-harbor/98332/gig-harbor-estate-sale-1395449
PRIORITY:1
CLASS:PUBLIC
SEQUENCE:0
STATUS:CONFIRMED
TRANSP:OPAQUE
END:VEVENT
END:VCALENDAR
