BEGIN:VCALENDAR
VERSION:2.0
METHOD:PUBLISH
BEGIN:VEVENT
DTSTART:20230922T170000Z
DTEND:20230924T200000Z
LOCATION:Harbor Springs, MI 49740
TRANSP: OPAQUE
SEQUENCE:0
UID:
DTSTAMP:20260423T233333Z
SUMMARY:Historic Speakeasy Estate Sale - Club Manitou of Harbor Springs
DESCRIPTION:Historic Speakeasy Estate Sale - Club Manitou of Harbor Springs Black River Estate Sales 
UID:1777008813
STREET-ADDRESS:See website
POSTAL-CODE:49740
LOCALITY:Harbor Springs
REGION:ABBREV=MI
COUNTRY:ABBREV=US;ABBREV=USA:United States
URL;TYPE=Event Listing:https://estatesales.org/estate-sales/mi/harbor-springs/49740/historic-speakeasy-estate-sale-club-2229163
PRIORITY:1
CLASS:PUBLIC
SEQUENCE:0
STATUS:CONFIRMED
TRANSP:OPAQUE
END:VEVENT
END:VCALENDAR
