BEGIN:VCALENDAR
VERSION:2.0
METHOD:PUBLISH
BEGIN:VEVENT
DTSTART:20170922T140000Z
DTEND:20170924T190000Z
LOCATION:Leesburg, VA 20176
TRANSP: OPAQUE
SEQUENCE:0
UID:
DTSTAMP:20260424T133523Z
SUMMARY:LAVISH in LEESBURG
DESCRIPTION:LAVISH in LEESBURG Great Estate Solutions 
UID:1777059323
STREET-ADDRESS:See website
POSTAL-CODE:20176
LOCALITY:Leesburg
REGION:ABBREV=VA
COUNTRY:ABBREV=US;ABBREV=USA:United States
URL;TYPE=Event Listing:https://estatesales.org/estate-sales/va/leesburg/20176/lavish-in-leesburg-1376591
PRIORITY:1
CLASS:PUBLIC
SEQUENCE:0
STATUS:CONFIRMED
TRANSP:OPAQUE
END:VEVENT
END:VCALENDAR
