BEGIN:VCALENDAR
VERSION:2.0
METHOD:PUBLISH
BEGIN:VEVENT
DTSTART:20170922T140000Z
DTEND:20170923T180000Z
LOCATION:Cottage Grove, MN 55016
TRANSP: OPAQUE
SEQUENCE:0
UID:
DTSTAMP:20260419T201430Z
SUMMARY:Great Cottage Grove Estate Sale by Caring Transitions Twin Cities East!
DESCRIPTION:Great Cottage Grove Estate Sale by Caring Transitions Twin Cities East! Caring Transitions Twin Cities East 
UID:1776651270
STREET-ADDRESS:See website
POSTAL-CODE:55016
LOCALITY:Cottage Grove
REGION:ABBREV=MN
COUNTRY:ABBREV=US;ABBREV=USA:United States
URL;TYPE=Event Listing:https://estatesales.org/estate-sales/mn/cottage-grove/55016/great-cottage-grove-estate-sale-1398781
PRIORITY:1
CLASS:PUBLIC
SEQUENCE:0
STATUS:CONFIRMED
TRANSP:OPAQUE
END:VEVENT
END:VCALENDAR
