BEGIN:VCALENDAR
VERSION:2.0
METHOD:PUBLISH
BEGIN:VEVENT
DTSTART:20250921T180000Z
DTEND:20250921T220000Z
LOCATION:Plantersville, TX 77363
TRANSP: OPAQUE
SEQUENCE:0
UID:
DTSTAMP:20260422T030657Z
SUMMARY:Live Estate Auction
DESCRIPTION:Live Estate Auction 105 Auction Gallery 
UID:1776848817
STREET-ADDRESS:See website
POSTAL-CODE:77363
LOCALITY:Plantersville
REGION:ABBREV=TX
COUNTRY:ABBREV=US;ABBREV=USA:United States
URL;TYPE=Event Listing:https://estatesales.org/estate-sales/tx/plantersville/77363/live-estate-auction-2401544
PRIORITY:1
CLASS:PUBLIC
SEQUENCE:0
STATUS:CONFIRMED
TRANSP:OPAQUE
END:VEVENT
END:VCALENDAR
