BEGIN:VCALENDAR
VERSION:2.0
METHOD:PUBLISH
BEGIN:VEVENT
DTSTART:20240921T130000Z
DTEND:20240922T200000Z
LOCATION:New City, NY 10956
TRANSP: OPAQUE
SEQUENCE:0
UID:
DTSTAMP:20260422T024601Z
SUMMARY:Masters of Modern Design :: Part 2 :: Estate Sale in New City
DESCRIPTION:Masters of Modern Design :: Part 2 :: Estate Sale in New City Hudson Estate Sales, LLC 
UID:1776847561
STREET-ADDRESS:See website
POSTAL-CODE:10956
LOCALITY:New City
REGION:ABBREV=NY
COUNTRY:ABBREV=US;ABBREV=USA:United States
URL;TYPE=Event Listing:https://estatesales.org/estate-sales/ny/new-city/10956/masters-of-modern-design-part-2339385
PRIORITY:1
CLASS:PUBLIC
SEQUENCE:0
STATUS:CONFIRMED
TRANSP:OPAQUE
END:VEVENT
END:VCALENDAR
