BEGIN:VCALENDAR
VERSION:2.0
METHOD:PUBLISH
BEGIN:VEVENT
DTSTART:20230921T160000Z
DTEND:20230923T210000Z
LOCATION:Fairfield, CA 94533
TRANSP: OPAQUE
SEQUENCE:0
UID:
DTSTAMP:20260421T120448Z
SUMMARY:Up to 50% off Sale Vintage Sale
DESCRIPTION:Up to 50% off Sale Vintage Sale Alliance Estate Sales 
UID:1776794688
STREET-ADDRESS:See website
POSTAL-CODE:94533
LOCALITY:Fairfield
REGION:ABBREV=CA
COUNTRY:ABBREV=US;ABBREV=USA:United States
URL;TYPE=Event Listing:https://estatesales.org/estate-sales/ca/fairfield/94533/up-to-25-off-sale-2229649
PRIORITY:1
CLASS:PUBLIC
SEQUENCE:0
STATUS:CONFIRMED
TRANSP:OPAQUE
END:VEVENT
END:VCALENDAR
