BEGIN:VCALENDAR
VERSION:2.0
METHOD:PUBLISH
BEGIN:VEVENT
DTSTART:20170921T200000Z
DTEND:20170922T020000Z
LOCATION:Springfield, OH 45503
TRANSP: OPAQUE
SEQUENCE:0
UID:
DTSTAMP:20260424T085658Z
SUMMARY:SPRINGFIELD DOWNSIZING AUCTION
DESCRIPTION:SPRINGFIELD DOWNSIZING AUCTION Ron Denney, Auctioneer 
UID:1777042618
STREET-ADDRESS:See website
POSTAL-CODE:45503
LOCALITY:Springfield
REGION:ABBREV=OH
COUNTRY:ABBREV=US;ABBREV=USA:United States
URL;TYPE=Event Listing:https://estatesales.org/estate-sales/oh/springfield/45503/springfield-downsizing-auction-1360119
PRIORITY:1
CLASS:PUBLIC
SEQUENCE:0
STATUS:CONFIRMED
TRANSP:OPAQUE
END:VEVENT
END:VCALENDAR
