BEGIN:VCALENDAR
VERSION:2.0
METHOD:PUBLISH
BEGIN:VEVENT
DTSTART:20120921T120000Z
DTEND:20120922T183000Z
LOCATION:Richardson, TX 75082
TRANSP: OPAQUE
SEQUENCE:0
UID:
DTSTAMP:20260425T123614Z
SUMMARY:The "Live Like Lucy And Ricky" Estate Sale!
DESCRIPTION:The "Live Like Lucy And Ricky" Estate Sale! Blue Moon Estates - Estate Sales, Events &amp; Services 
UID:1777142174
STREET-ADDRESS:See website
POSTAL-CODE:75082
LOCALITY:Richardson
REGION:ABBREV=TX
COUNTRY:ABBREV=US;ABBREV=USA:United States
URL;TYPE=Event Listing:https://estatesales.org/estate-sales/tx/richardson/75082/the-live-like-lucy-and-214846
PRIORITY:1
CLASS:PUBLIC
SEQUENCE:0
STATUS:CONFIRMED
TRANSP:OPAQUE
END:VEVENT
END:VCALENDAR
