BEGIN:VCALENDAR
VERSION:2.0
METHOD:PUBLISH
BEGIN:VEVENT
DTSTART:20250920T170000Z
DTEND:20250920T220000Z
LOCATION:Palo Alto, CA 94303
TRANSP: OPAQUE
SEQUENCE:0
UID:
DTSTAMP:20260419T061833Z
SUMMARY:TJDGs Back to School / End of Summer Estate Sale
DESCRIPTION:TJDGs Back to School / End of Summer Estate Sale The Junk & Disorderly Girls 
UID:1776601113
STREET-ADDRESS:See website
POSTAL-CODE:94303
LOCALITY:Palo Alto
REGION:ABBREV=CA
COUNTRY:ABBREV=US;ABBREV=USA:United States
URL;TYPE=Event Listing:https://estatesales.org/estate-sales/ca/palo-alto/94303/tjdgs-back-to-school-end-2402042
PRIORITY:1
CLASS:PUBLIC
SEQUENCE:0
STATUS:CONFIRMED
TRANSP:OPAQUE
END:VEVENT
END:VCALENDAR
