BEGIN:VCALENDAR
VERSION:2.0
METHOD:PUBLISH
BEGIN:VEVENT
DTSTART:20250920T120000Z
DTEND:20250921T180000Z
LOCATION:Vandergrift, PA 15690
TRANSP: OPAQUE
SEQUENCE:0
UID:
DTSTAMP:20260419T082704Z
SUMMARY:Williams and Barron Estate Services
DESCRIPTION:Williams and Barron Estate Services Williams & Barron Estate Services LLC 
UID:1776608824
STREET-ADDRESS:See website
POSTAL-CODE:15690
LOCALITY:Vandergrift
REGION:ABBREV=PA
COUNTRY:ABBREV=US;ABBREV=USA:United States
URL;TYPE=Event Listing:https://estatesales.org/estate-sales/pa/vandergrift/15690/williams-and-barron-estate-services-2402070
PRIORITY:1
CLASS:PUBLIC
SEQUENCE:0
STATUS:CONFIRMED
TRANSP:OPAQUE
END:VEVENT
END:VCALENDAR
