BEGIN:VCALENDAR
VERSION:2.0
METHOD:PUBLISH
BEGIN:VEVENT
DTSTART:20250920T150000Z
DTEND:20250921T210000Z
LOCATION:Tucson, AZ 85716
TRANSP: OPAQUE
SEQUENCE:0
UID:
DTSTAMP:20260424T020246Z
SUMMARY:Grasons 50% off - Sunday Sept 21 (E Prince Rd /N Tucson Blvd)
DESCRIPTION:Grasons 50% off - Sunday Sept 21 (E Prince Rd /N Tucson Blvd) Grasons Co of Southern Arizona 
UID:1777017766
STREET-ADDRESS:See website
POSTAL-CODE:85716
LOCALITY:Tucson
REGION:ABBREV=AZ
COUNTRY:ABBREV=US;ABBREV=USA:United States
URL;TYPE=Event Listing:https://estatesales.org/estate-sales/az/tucson/85716/grasons-50-off-sunday-sept-2401844
PRIORITY:1
CLASS:PUBLIC
SEQUENCE:0
STATUS:CONFIRMED
TRANSP:OPAQUE
END:VEVENT
END:VCALENDAR
