BEGIN:VCALENDAR
VERSION:2.0
METHOD:PUBLISH
BEGIN:VEVENT
DTSTART:20240920T130000Z
DTEND:20240922T200000Z
LOCATION:Hackensack, NJ 07601
TRANSP: OPAQUE
SEQUENCE:0
UID:
DTSTAMP:20260423T142412Z
SUMMARY:3 DAY VINTAGE CLOTHING LIQUIDATION SALE!
DESCRIPTION:3 DAY VINTAGE CLOTHING LIQUIDATION SALE! Town & Country Estate & Moving Sales 
UID:1776975852
STREET-ADDRESS:See website
POSTAL-CODE:07601
LOCALITY:Hackensack
REGION:ABBREV=NJ
COUNTRY:ABBREV=US;ABBREV=USA:United States
URL;TYPE=Event Listing:https://estatesales.org/estate-sales/nj/hackensack-/07601/3-day-vintage-clothing-liquidation-2338930
PRIORITY:1
CLASS:PUBLIC
SEQUENCE:0
STATUS:CONFIRMED
TRANSP:OPAQUE
END:VEVENT
END:VCALENDAR
