BEGIN:VCALENDAR
VERSION:2.0
METHOD:PUBLISH
BEGIN:VEVENT
DTSTART:20240920T160000Z
DTEND:20240921T210000Z
LOCATION:Bakersfield, CA 93309
TRANSP: OPAQUE
SEQUENCE:0
UID:
DTSTAMP:20260421T115722Z
SUMMARY:Come One, Come All!!...for FURNITURE! CLOTHING! WATCHES & JEWELRY! TOOLS & MORE!!
DESCRIPTION:Come One, Come All!!...for FURNITURE! CLOTHING! WATCHES & JEWELRY! TOOLS & MORE!! Senior Move Manager & More! 
UID:1776794242
STREET-ADDRESS:See website
POSTAL-CODE:93309
LOCALITY:Bakersfield
REGION:ABBREV=CA
COUNTRY:ABBREV=US;ABBREV=USA:United States
URL;TYPE=Event Listing:https://estatesales.org/estate-sales/ca/bakersfield/93309/come-one-come-allfor-furniture-2338542
PRIORITY:1
CLASS:PUBLIC
SEQUENCE:0
STATUS:CONFIRMED
TRANSP:OPAQUE
END:VEVENT
END:VCALENDAR
