BEGIN:VCALENDAR
VERSION:2.0
METHOD:PUBLISH
BEGIN:VEVENT
DTSTART:20240920T150000Z
DTEND:20240921T200000Z
LOCATION:Scottsdale, AZ 85259
TRANSP: OPAQUE
SEQUENCE:0
UID:
DTSTAMP:20260419T195100Z
SUMMARY:Scottsdale Estate Sale: Hidden Hills of Scottsdale
DESCRIPTION:Scottsdale Estate Sale: Hidden Hills of Scottsdale Arizona Finds 
UID:1776649860
STREET-ADDRESS:See website
POSTAL-CODE:85259
LOCALITY:Scottsdale
REGION:ABBREV=AZ
COUNTRY:ABBREV=US;ABBREV=USA:United States
URL;TYPE=Event Listing:https://estatesales.org/estate-sales/az/scottsdale/85259/scottsdale-estate-sale-hidden-hills-2335857
PRIORITY:1
CLASS:PUBLIC
SEQUENCE:0
STATUS:CONFIRMED
TRANSP:OPAQUE
END:VEVENT
END:VCALENDAR
