BEGIN:VCALENDAR
VERSION:2.0
METHOD:PUBLISH
BEGIN:VEVENT
DTSTART:20190920T153000Z
DTEND:20190922T210000Z
LOCATION:Mesa, AZ 85205
TRANSP: OPAQUE
SEQUENCE:0
UID:
DTSTAMP:20260420T061014Z
SUMMARY:50% OFF Mid Century Eclectic Estate Sale
DESCRIPTION:50% OFF Mid Century Eclectic Estate Sale Blue Barn Estate Sales 
UID:1776687014
STREET-ADDRESS:See website
POSTAL-CODE:85205
LOCALITY:Mesa
REGION:ABBREV=AZ
COUNTRY:ABBREV=US;ABBREV=USA:United States
URL;TYPE=Event Listing:https://estatesales.org/estate-sales/az/mesa/85205/50-off-mid-century-eclectic-1710961
PRIORITY:1
CLASS:PUBLIC
SEQUENCE:0
STATUS:CONFIRMED
TRANSP:OPAQUE
END:VEVENT
END:VCALENDAR
