BEGIN:VCALENDAR
VERSION:2.0
METHOD:PUBLISH
BEGIN:VEVENT
DTSTART:20160920T150000Z
DTEND:20160920T190000Z
LOCATION:Milwaukee, WI 53226
TRANSP: OPAQUE
SEQUENCE:0
UID:
DTSTAMP:20260420T030218Z
SUMMARY:$5 Fill A Bag-Milwaukee Estate Sale
DESCRIPTION:$5 Fill A Bag-Milwaukee Estate Sale All in the Family Estate Sales 
UID:1776675738
STREET-ADDRESS:See website
POSTAL-CODE:53226
LOCALITY:Milwaukee
REGION:ABBREV=WI
COUNTRY:ABBREV=US;ABBREV=USA:United States
URL;TYPE=Event Listing:https://estatesales.org/estate-sales/wi/milwaukee/53226/5-fill-a-bagmilwaukee-estate-984231
PRIORITY:1
CLASS:PUBLIC
SEQUENCE:0
STATUS:CONFIRMED
TRANSP:OPAQUE
END:VEVENT
END:VCALENDAR
