BEGIN:VCALENDAR
VERSION:2.0
METHOD:PUBLISH
BEGIN:VEVENT
DTSTART:20250919T130000Z
DTEND:20250921T190000Z
LOCATION:Absecon, NJ 08205
TRANSP: OPAQUE
SEQUENCE:0
UID:
DTSTAMP:20260420T051013Z
SUMMARY:Packed to the Gills Galloway NJ Blue Moon Estate Sale
DESCRIPTION:Packed to the Gills Galloway NJ Blue Moon Estate Sale Blue Moon Estate Sales Jersey Shore 
UID:1776683413
STREET-ADDRESS:See website
POSTAL-CODE:08205
LOCALITY:Absecon
REGION:ABBREV=NJ
COUNTRY:ABBREV=US;ABBREV=USA:United States
URL;TYPE=Event Listing:https://estatesales.org/estate-sales/nj/galloway-/08205/packed-to-the-gills-galloway-2399656
PRIORITY:1
CLASS:PUBLIC
SEQUENCE:0
STATUS:CONFIRMED
TRANSP:OPAQUE
END:VEVENT
END:VCALENDAR
