BEGIN:VCALENDAR
VERSION:2.0
METHOD:PUBLISH
BEGIN:VEVENT
DTSTART:20200919T130000Z
DTEND:20200919T180000Z
LOCATION:Kennett Square, PA 19348
TRANSP: OPAQUE
SEQUENCE:0
UID:
DTSTAMP:20260423T203436Z
SUMMARY:Comprehensive Tool Shop Machinery and Decor from Fixed 2 Move
DESCRIPTION:Comprehensive Tool Shop Machinery and Decor from Fixed 2 Move Fixed 2 Move 
UID:1776998076
STREET-ADDRESS:See website
POSTAL-CODE:19348
LOCALITY:Kennett Square
REGION:ABBREV=PA
COUNTRY:ABBREV=US;ABBREV=USA:United States
URL;TYPE=Event Listing:https://estatesales.org/estate-sales/pa/kennett-square/19348/comprehensive-tool-shop-machinery-and-1819261
PRIORITY:1
CLASS:PUBLIC
SEQUENCE:0
STATUS:CONFIRMED
TRANSP:OPAQUE
END:VEVENT
END:VCALENDAR
