BEGIN:VCALENDAR
VERSION:2.0
METHOD:PUBLISH
BEGIN:VEVENT
DTSTART:20200919T123000Z
DTEND:20200919T210000Z
LOCATION:Port Charlotte, FL 33980
TRANSP: OPAQUE
SEQUENCE:0
UID:
DTSTAMP:20260420T132614Z
SUMMARY:Gigantic Home Improvement Auction hosted by Crimson (Preview Thursday)
DESCRIPTION:Gigantic Home Improvement Auction hosted by Crimson (Preview Thursday) Crimson Estate Services 
UID:1776713174
STREET-ADDRESS:See website
POSTAL-CODE:33980
LOCALITY:Port Charlotte
REGION:ABBREV=FL
COUNTRY:ABBREV=US;ABBREV=USA:United States
URL;TYPE=Event Listing:https://estatesales.org/estate-sales/fl/port-charlotte/33980/gigantic-home-improvement-auction-hosted-1820189
PRIORITY:1
CLASS:PUBLIC
SEQUENCE:0
STATUS:CONFIRMED
TRANSP:OPAQUE
END:VEVENT
END:VCALENDAR
