BEGIN:VCALENDAR
VERSION:2.0
METHOD:PUBLISH
BEGIN:VEVENT
DTSTART:20140919T160000Z
DTEND:20140920T220000Z
LOCATION:Rancho Cucamonga, CA 91737
TRANSP: OPAQUE
SEQUENCE:0
UID:
DTSTAMP:20260425T044942Z
SUMMARY: HUGH ENTERTAINMENT CENTER,55" SHARP HD TV, ANTIQUE BURL WOOD GERMAN CABINET, PATIO FURNITURE,YARD ART, JIM SHORE COLLECTION,SEWERS DREAM AND ETC...
DESCRIPTION: HUGH ENTERTAINMENT CENTER,55" SHARP HD TV, ANTIQUE BURL WOOD GERMAN CABINET, PATIO FURNITURE,YARD ART, JIM SHORE COLLECTION,SEWERS DREAM AND ETC... Juanita's JUNK in the TRUNK - Estate Sales & Liquidation Sales 
UID:1777114182
STREET-ADDRESS:See website
POSTAL-CODE:91737
LOCALITY:Rancho Cucamonga
REGION:ABBREV=CA
COUNTRY:ABBREV=US;ABBREV=USA:United States
URL;TYPE=Event Listing:https://estatesales.org/estate-sales/ca/rancho-cucamonga/91737/hugh-entertainment-center55-sharp-hd-449196
PRIORITY:1
CLASS:PUBLIC
SEQUENCE:0
STATUS:CONFIRMED
TRANSP:OPAQUE
END:VEVENT
END:VCALENDAR
