BEGIN:VCALENDAR
VERSION:2.0
METHOD:PUBLISH
BEGIN:VEVENT
DTSTART:20140919T180000Z
DTEND:20140921T180000Z
LOCATION:Westhampton Beach, NY 11978
TRANSP: OPAQUE
SEQUENCE:0
UID:
DTSTAMP:20260423T224645Z
SUMMARY:PRISTINE ELEGANT WESTHAMPTON BEACH HOME
DESCRIPTION:PRISTINE ELEGANT WESTHAMPTON BEACH HOME re.luxeHamptons 
UID:1777006005
STREET-ADDRESS:See website
POSTAL-CODE:11978
LOCALITY:Westhampton Beach
REGION:ABBREV=NY
COUNTRY:ABBREV=US;ABBREV=USA:United States
URL;TYPE=Event Listing:https://estatesales.org/estate-sales/ny/westhampton-beach/11978/pristine-elegant-westhampton-beach-home-453612
PRIORITY:1
CLASS:PUBLIC
SEQUENCE:0
STATUS:CONFIRMED
TRANSP:OPAQUE
END:VEVENT
END:VCALENDAR
