BEGIN:VCALENDAR
VERSION:2.0
METHOD:PUBLISH
BEGIN:VEVENT
DTSTART:20250918T150000Z
DTEND:20250920T200000Z
LOCATION:Littleton, CO 80122
TRANSP: OPAQUE
SEQUENCE:0
UID:
DTSTAMP:20260419T061835Z
SUMMARY:Grasons of SW Denver presents: Pickers Paradise in Centennial
DESCRIPTION:Grasons of SW Denver presents: Pickers Paradise in Centennial Grasons of Southwest Denver, CO 
UID:1776601115
STREET-ADDRESS:See website
POSTAL-CODE:80122
LOCALITY:Littleton
REGION:ABBREV=CO
COUNTRY:ABBREV=US;ABBREV=USA:United States
URL;TYPE=Event Listing:https://estatesales.org/estate-sales/co/centennial/80122/grasons-of-sw-denver-presents-2401628
PRIORITY:1
CLASS:PUBLIC
SEQUENCE:0
STATUS:CONFIRMED
TRANSP:OPAQUE
END:VEVENT
END:VCALENDAR
