BEGIN:VCALENDAR
VERSION:2.0
METHOD:PUBLISH
BEGIN:VEVENT
DTSTART:20240918T160000Z
DTEND:20240921T210000Z
LOCATION:Orinda, CA 94563
TRANSP: OPAQUE
SEQUENCE:0
UID:
DTSTAMP:20260423T083540Z
SUMMARY:BEEHIVE ESTATE SALES PRESENTS THE ADONAL FOYLE'S ORINDA SALE
DESCRIPTION:BEEHIVE ESTATE SALES PRESENTS THE ADONAL FOYLE'S ORINDA SALE Beehive Estate Sales 
UID:1776954940
STREET-ADDRESS:See website
POSTAL-CODE:94563
LOCALITY:Orinda
REGION:ABBREV=CA
COUNTRY:ABBREV=US;ABBREV=USA:United States
URL;TYPE=Event Listing:https://estatesales.org/estate-sales/ca/orinda/94563/beehive-estate-sales-presents-the-2339103
PRIORITY:1
CLASS:PUBLIC
SEQUENCE:0
STATUS:CONFIRMED
TRANSP:OPAQUE
END:VEVENT
END:VCALENDAR
