BEGIN:VCALENDAR
VERSION:2.0
METHOD:PUBLISH
BEGIN:VEVENT
DTSTART:20200918T130000Z
DTEND:20200919T200000Z
LOCATION:Brentwood, TN 37027
TRANSP: OPAQUE
SEQUENCE:0
UID:
DTSTAMP:20260419T113716Z
SUMMARY:Brentwood Sale 
DESCRIPTION:Brentwood Sale  Berenice Denton Estate Sales  
UID:1776620236
STREET-ADDRESS:See website
POSTAL-CODE:37027
LOCALITY:Brentwood
REGION:ABBREV=TN
COUNTRY:ABBREV=US;ABBREV=USA:United States
URL;TYPE=Event Listing:https://estatesales.org/estate-sales/tn/brentwood/37027/brentwood-sale-1818925
PRIORITY:1
CLASS:PUBLIC
SEQUENCE:0
STATUS:CONFIRMED
TRANSP:OPAQUE
END:VEVENT
END:VCALENDAR
