BEGIN:VCALENDAR
VERSION:2.0
METHOD:PUBLISH
BEGIN:VEVENT
DTSTART:20150918T150000Z
DTEND:20150919T190000Z
LOCATION:Mesa, AZ 85206
TRANSP: OPAQUE
SEQUENCE:0
UID:
DTSTAMP:20260423T121818Z
SUMMARY:SUNLAND VILLAGE ESTATE SALE #2
DESCRIPTION:SUNLAND VILLAGE ESTATE SALE #2 House Of Hamblin Estate Liquidations 
UID:1776968298
STREET-ADDRESS:See website
POSTAL-CODE:85206
LOCALITY:Mesa
REGION:ABBREV=AZ
COUNTRY:ABBREV=US;ABBREV=USA:United States
URL;TYPE=Event Listing:https://estatesales.org/estate-sales/az/mesa/85206/sunland-village-estate-sale-2-671721
PRIORITY:1
CLASS:PUBLIC
SEQUENCE:0
STATUS:CONFIRMED
TRANSP:OPAQUE
END:VEVENT
END:VCALENDAR
