BEGIN:VCALENDAR
VERSION:2.0
METHOD:PUBLISH
BEGIN:VEVENT
DTSTART:20140918T140000Z
DTEND:20140918T040000Z
LOCATION:Boyce, VA 22620
TRANSP: OPAQUE
SEQUENCE:0
UID:
DTSTAMP:20260420T094235Z
SUMMARY:Apple Blossom U-Store It Storage Auction
DESCRIPTION:Apple Blossom U-Store It Storage Auction Hash Auctions 
UID:1776699755
STREET-ADDRESS:See website
POSTAL-CODE:22620
LOCALITY:Boyce
REGION:ABBREV=VA
COUNTRY:ABBREV=US;ABBREV=USA:United States
URL;TYPE=Event Listing:https://estatesales.org/estate-sales/va/boyce/22620/apple-blossom-ustore-it-storage-440921
PRIORITY:1
CLASS:PUBLIC
SEQUENCE:0
STATUS:CONFIRMED
TRANSP:OPAQUE
END:VEVENT
END:VCALENDAR
