BEGIN:VCALENDAR
VERSION:2.0
METHOD:PUBLISH
BEGIN:VEVENT
DTSTART:20210917T170000Z
DTEND:20210919T210000Z
LOCATION:Santa Cruz, CA 95062
TRANSP: OPAQUE
SEQUENCE:0
UID:
DTSTAMP:20260421T115744Z
SUMMARY:218 Seabright Estate Sale
DESCRIPTION:218 Seabright Estate Sale A Move Made SImple 
UID:1776794264
STREET-ADDRESS:See website
POSTAL-CODE:95062
LOCALITY:Santa Cruz
REGION:ABBREV=CA
COUNTRY:ABBREV=US;ABBREV=USA:United States
URL;TYPE=Event Listing:https://estatesales.org/estate-sales/ca/santa-cruz/95062/218-seabright-estate-sale-1958789
PRIORITY:1
CLASS:PUBLIC
SEQUENCE:0
STATUS:CONFIRMED
TRANSP:OPAQUE
END:VEVENT
END:VCALENDAR
