BEGIN:VCALENDAR
VERSION:2.0
METHOD:PUBLISH
BEGIN:VEVENT
DTSTART:20210917T130000Z
DTEND:20210918T160000Z
LOCATION:Baxter Springs, KS 66713
TRANSP: OPAQUE
SEQUENCE:0
UID:
DTSTAMP:20260419T122551Z
SUMMARY:Estate Tag Sale of the Late Joe Hawkins
DESCRIPTION:Estate Tag Sale of the Late Joe Hawkins New Beginnings Estate Sales of SW MO 
UID:1776623151
STREET-ADDRESS:See website
POSTAL-CODE:66713
LOCALITY:Baxter Springs
REGION:ABBREV=KS
COUNTRY:ABBREV=US;ABBREV=USA:United States
URL;TYPE=Event Listing:https://estatesales.org/estate-sales/ks/baxter-springs/66713/estate-tag-sale-of-the-1958201
PRIORITY:1
CLASS:PUBLIC
SEQUENCE:0
STATUS:CONFIRMED
TRANSP:OPAQUE
END:VEVENT
END:VCALENDAR
