BEGIN:VCALENDAR
VERSION:2.0
METHOD:PUBLISH
BEGIN:VEVENT
DTSTART:20210917T130000Z
DTEND:20210918T200000Z
LOCATION:Brookston, IN 47923
TRANSP: OPAQUE
SEQUENCE:0
UID:
DTSTAMP:20260419T121858Z
SUMMARY:Apple Popcorn Sale
DESCRIPTION:Apple Popcorn Sale Hunt & Gather Estate Sales 
UID:1776622738
STREET-ADDRESS:See website
POSTAL-CODE:47923
LOCALITY:Brookston
REGION:ABBREV=IN
COUNTRY:ABBREV=US;ABBREV=USA:United States
URL;TYPE=Event Listing:https://estatesales.org/estate-sales/in/brookston/47923/apple-popcorn-sale-1948251
PRIORITY:1
CLASS:PUBLIC
SEQUENCE:0
STATUS:CONFIRMED
TRANSP:OPAQUE
END:VEVENT
END:VCALENDAR
