BEGIN:VCALENDAR
VERSION:2.0
METHOD:PUBLISH
BEGIN:VEVENT
DTSTART:20200917T160000Z
DTEND:20200919T220000Z
LOCATION:Midlothian, TX 76065
TRANSP: OPAQUE
SEQUENCE:0
UID:
DTSTAMP:20260424T214954Z
SUMMARY:Midlothian Manor
DESCRIPTION:Midlothian Manor Lakeside Estate Sales, CGL LLC. 
UID:1777088994
STREET-ADDRESS:See website
POSTAL-CODE:76065
LOCALITY:Midlothian
REGION:ABBREV=TX
COUNTRY:ABBREV=US;ABBREV=USA:United States
URL;TYPE=Event Listing:https://estatesales.org/estate-sales/tx/midlothian/76065/midlothian-manor-1815519
PRIORITY:1
CLASS:PUBLIC
SEQUENCE:0
STATUS:CONFIRMED
TRANSP:OPAQUE
END:VEVENT
END:VCALENDAR
