BEGIN:VCALENDAR
VERSION:2.0
METHOD:PUBLISH
BEGIN:VEVENT
DTSTART:20150917T130000Z
DTEND:20150919T180000Z
LOCATION:Plaistow, NH 03865
TRANSP: OPAQUE
SEQUENCE:0
UID:
DTSTAMP:20260419T165946Z
SUMMARY:Attic And All will be Liquidating the Entire Contents of this home will be liquidated by Attic And All Estate Liquidators REVISED DATE
DESCRIPTION:Attic And All will be Liquidating the Entire Contents of this home will be liquidated by Attic And All Estate Liquidators REVISED DATE Attic and All Estate Liquidators, LLC 
UID:1776639586
STREET-ADDRESS:See website
POSTAL-CODE:03865
LOCALITY:Plaistow
REGION:ABBREV=NH
COUNTRY:ABBREV=US;ABBREV=USA:United States
URL;TYPE=Event Listing:https://estatesales.org/estate-sales/nh/plaistow/03865/attic-and-all-will-be-542609
PRIORITY:1
CLASS:PUBLIC
SEQUENCE:0
STATUS:CONFIRMED
TRANSP:OPAQUE
END:VEVENT
END:VCALENDAR
