BEGIN:VCALENDAR
VERSION:2.0
METHOD:PUBLISH
BEGIN:VEVENT
DTSTART:20220916T160000Z
DTEND:20220917T200000Z
LOCATION:Concord, CA 94521
TRANSP: OPAQUE
SEQUENCE:0
UID:
DTSTAMP:20260422T005302Z
SUMMARY:9/16 & 9/17 FINAL Concord Tool Antique Cast Iron Pan Sale
DESCRIPTION:9/16 & 9/17 FINAL Concord Tool Antique Cast Iron Pan Sale Anton's Antiques 
UID:1776840782
STREET-ADDRESS:See website
POSTAL-CODE:94521
LOCALITY:Concord
REGION:ABBREV=CA
COUNTRY:ABBREV=US;ABBREV=USA:United States
URL;TYPE=Event Listing:https://estatesales.org/estate-sales/ca/concord/94521/916-917-final-concord-tool-2095239
PRIORITY:1
CLASS:PUBLIC
SEQUENCE:0
STATUS:CONFIRMED
TRANSP:OPAQUE
END:VEVENT
END:VCALENDAR
