BEGIN:VCALENDAR
VERSION:2.0
METHOD:PUBLISH
BEGIN:VEVENT
DTSTART:20210916T160000Z
DTEND:20210918T190000Z
LOCATION:Rancho Palos Verdes, CA 90275
TRANSP: OPAQUE
SEQUENCE:0
UID:
DTSTAMP:20260421T210334Z
SUMMARY:Grasons Co PV-Carson & Del Reys 3 Day  Huge Vintage Sale
DESCRIPTION:Grasons Co PV-Carson & Del Reys 3 Day  Huge Vintage Sale Grasons Co PV- Carson & Del Reys 
UID:1776827014
STREET-ADDRESS:See website
POSTAL-CODE:90275
LOCALITY:Rancho Palos Verdes
REGION:ABBREV=CA
COUNTRY:ABBREV=US;ABBREV=USA:United States
URL;TYPE=Event Listing:https://estatesales.org/estate-sales/ca/rancho-palos-verdes/90275/grasons-co-pvcarson-del-reys-1956533
PRIORITY:1
CLASS:PUBLIC
SEQUENCE:0
STATUS:CONFIRMED
TRANSP:OPAQUE
END:VEVENT
END:VCALENDAR
