BEGIN:VCALENDAR
VERSION:2.0
METHOD:PUBLISH
BEGIN:VEVENT
DTSTART:20160916T160000Z
DTEND:20160917T220000Z
LOCATION:Elk Grove, CA 95758
TRANSP: OPAQUE
SEQUENCE:0
UID:
DTSTAMP:20260421T115539Z
SUMMARY:New Life presents Modern America  Estate Sale
DESCRIPTION:New Life presents Modern America  Estate Sale Calder Estate Sales and Liquidators 
UID:1776794139
STREET-ADDRESS:See website
POSTAL-CODE:95758
LOCALITY:Elk Grove
REGION:ABBREV=CA
COUNTRY:ABBREV=US;ABBREV=USA:United States
URL;TYPE=Event Listing:https://estatesales.org/estate-sales/ca/elk-grove/95758/new-life-presents-modern-america-973485
PRIORITY:1
CLASS:PUBLIC
SEQUENCE:0
STATUS:CONFIRMED
TRANSP:OPAQUE
END:VEVENT
END:VCALENDAR
