BEGIN:VCALENDAR
VERSION:2.0
METHOD:PUBLISH
BEGIN:VEVENT
DTSTART:20140916T220000Z
DTEND:20140917T020000Z
LOCATION:Winchester, VA 22601
TRANSP: OPAQUE
SEQUENCE:0
UID:
DTSTAMP:20260420T135218Z
SUMMARY:Blue & Gary Mall Lighting & Home Decor, Plus Business Equipment
DESCRIPTION:Blue & Gary Mall Lighting & Home Decor, Plus Business Equipment Hash Auctions 
UID:1776714738
STREET-ADDRESS:See website
POSTAL-CODE:22601
LOCALITY:Winchester
REGION:ABBREV=VA
COUNTRY:ABBREV=US;ABBREV=USA:United States
URL;TYPE=Event Listing:https://estatesales.org/estate-sales/va/winchester/22601/blue-gary-mall-lighting-home-445332
PRIORITY:1
CLASS:PUBLIC
SEQUENCE:0
STATUS:CONFIRMED
TRANSP:OPAQUE
END:VEVENT
END:VCALENDAR
