BEGIN:VCALENDAR
VERSION:2.0
METHOD:PUBLISH
BEGIN:VEVENT
DTSTART:20220915T140000Z
DTEND:20220917T180000Z
LOCATION:Elburn, IL 60119
TRANSP: OPAQUE
SEQUENCE:0
UID:
DTSTAMP:20260425T144049Z
SUMMARY:Grasons Co of NW Chicagoland 3-day Elburn IL estate sale
DESCRIPTION:Grasons Co of NW Chicagoland 3-day Elburn IL estate sale Grasons Co of NW Chicagoland 
UID:1777149649
STREET-ADDRESS:See website
POSTAL-CODE:60119
LOCALITY:Elburn
REGION:ABBREV=IL
COUNTRY:ABBREV=US;ABBREV=USA:United States
URL;TYPE=Event Listing:https://estatesales.org/estate-sales/il/elburn/60119/grasons-co-of-nw-chicagoland-2091611
PRIORITY:1
CLASS:PUBLIC
SEQUENCE:0
STATUS:CONFIRMED
TRANSP:OPAQUE
END:VEVENT
END:VCALENDAR
