BEGIN:VCALENDAR
VERSION:2.0
METHOD:PUBLISH
BEGIN:VEVENT
DTSTART:20210915T150000Z
DTEND:20210916T180000Z
LOCATION:Apple Valley, CA 92307
TRANSP: OPAQUE
SEQUENCE:0
UID:
DTSTAMP:20260419T072614Z
SUMMARY:Grasons Co Estate Specialists Apple Valley Estate Sale
DESCRIPTION:Grasons Co Estate Specialists Apple Valley Estate Sale Grasons Co Estate Specialists 
UID:1776605174
STREET-ADDRESS:See website
POSTAL-CODE:92307
LOCALITY:Apple Valley
REGION:ABBREV=CA
COUNTRY:ABBREV=US;ABBREV=USA:United States
URL;TYPE=Event Listing:https://estatesales.org/estate-sales/ca/apple-valley/92307/grasons-co-estate-specialists-apple-1957123
PRIORITY:1
CLASS:PUBLIC
SEQUENCE:0
STATUS:CONFIRMED
TRANSP:OPAQUE
END:VEVENT
END:VCALENDAR
