BEGIN:VCALENDAR
VERSION:2.0
METHOD:PUBLISH
BEGIN:VEVENT
DTSTART:20200915T164200Z
DTEND:20200926T200000Z
LOCATION:Providence Forge, VA 23140
TRANSP: OPAQUE
SEQUENCE:0
UID:
DTSTAMP:20260420T094326Z
SUMMARY:Furnishings from "Spring Hill", built in 1765 - Providence Forge, VA.  Antique furniture, vintage estate and kitchen items, unusual and historical items, Civil War items and more.  
DESCRIPTION:Furnishings from "Spring Hill", built in 1765 - Providence Forge, VA.  Antique furniture, vintage estate and kitchen items, unusual and historical items, Civil War items and more.   Isgett Auction Marketing 
UID:1776699806
STREET-ADDRESS:See website
POSTAL-CODE:23140
LOCALITY:Providence Forge
REGION:ABBREV=VA
COUNTRY:ABBREV=US;ABBREV=USA:United States
URL;TYPE=Event Listing:https://estatesales.org/estate-sales/va/providence-forge/23140/furnishings-from-spring-hill-built-1823799
PRIORITY:1
CLASS:PUBLIC
SEQUENCE:0
STATUS:CONFIRMED
TRANSP:OPAQUE
END:VEVENT
END:VCALENDAR
