BEGIN:VCALENDAR
VERSION:2.0
METHOD:PUBLISH
BEGIN:VEVENT
DTSTART:20140915T130000Z
DTEND:20140915T040000Z
LOCATION:Berryville, VA 22611
TRANSP: OPAQUE
SEQUENCE:0
UID:
DTSTAMP:20260420T093644Z
SUMMARY:Monday September 15th
DESCRIPTION:Monday September 15th Hash Auctions 
UID:1776699404
STREET-ADDRESS:See website
POSTAL-CODE:22611
LOCALITY:Berryville
REGION:ABBREV=VA
COUNTRY:ABBREV=US;ABBREV=USA:United States
URL;TYPE=Event Listing:https://estatesales.org/estate-sales/va/berryville/22611/monday-september-15th-445408
PRIORITY:1
CLASS:PUBLIC
SEQUENCE:0
STATUS:CONFIRMED
TRANSP:OPAQUE
END:VEVENT
END:VCALENDAR
