BEGIN:VCALENDAR
VERSION:2.0
METHOD:PUBLISH
BEGIN:VEVENT
DTSTART:20240914T160000Z
DTEND:20240915T230000Z
LOCATION:Seattle, WA 98178
TRANSP: OPAQUE
SEQUENCE:0
UID:
DTSTAMP:20260424T133644Z
SUMMARY:Seattle/Renton estate sale. 50% off
DESCRIPTION:Seattle/Renton estate sale. 50% off Sunset Auction 
UID:1777059404
STREET-ADDRESS:See website
POSTAL-CODE:98178
LOCALITY:Seattle
REGION:ABBREV=WA
COUNTRY:ABBREV=US;ABBREV=USA:United States
URL;TYPE=Event Listing:https://estatesales.org/estate-sales/wa/seattle/98178/seattlerenton-estate-sale-50-off-2338356
PRIORITY:1
CLASS:PUBLIC
SEQUENCE:0
STATUS:CONFIRMED
TRANSP:OPAQUE
END:VEVENT
END:VCALENDAR
