BEGIN:VCALENDAR
VERSION:2.0
METHOD:PUBLISH
BEGIN:VEVENT
DTSTART:20240914T130000Z
DTEND:20240915T200000Z
LOCATION:Catonsville, MD 21228
TRANSP: OPAQUE
SEQUENCE:0
UID:
DTSTAMP:20260423T110423Z
SUMMARY:BiIG SALE!
DESCRIPTION:BiIG SALE! First Choice Estate Sales 
UID:1776963863
STREET-ADDRESS:See website
POSTAL-CODE:21228
LOCALITY:Catonsville
REGION:ABBREV=MD
COUNTRY:ABBREV=US;ABBREV=USA:United States
URL;TYPE=Event Listing:https://estatesales.org/estate-sales/md/catonsville/21228/balenciaga-louis-vuitton-gucci-vintage-2336868
PRIORITY:1
CLASS:PUBLIC
SEQUENCE:0
STATUS:CONFIRMED
TRANSP:OPAQUE
END:VEVENT
END:VCALENDAR
