BEGIN:VCALENDAR
VERSION:2.0
METHOD:PUBLISH
BEGIN:VEVENT
DTSTART:20240914T160000Z
DTEND:20240914T200000Z
LOCATION:Fresno, CA 93711
TRANSP: OPAQUE
SEQUENCE:0
UID:
DTSTAMP:20260422T044625Z
SUMMARY:TWO Estates brought to our warehouse!
DESCRIPTION:TWO Estates brought to our warehouse! Basements and Beyond 
UID:1776854785
STREET-ADDRESS:See website
POSTAL-CODE:93711
LOCALITY:Fresno
REGION:ABBREV=CA
COUNTRY:ABBREV=US;ABBREV=USA:United States
URL;TYPE=Event Listing:https://estatesales.org/estate-sales/ca/fresno/93711/two-estates-brought-to-our-2339033
PRIORITY:1
CLASS:PUBLIC
SEQUENCE:0
STATUS:CONFIRMED
TRANSP:OPAQUE
END:VEVENT
END:VCALENDAR
