BEGIN:VCALENDAR
VERSION:2.0
METHOD:PUBLISH
BEGIN:VEVENT
DTSTART:20240914T150000Z
DTEND:20240914T200000Z
LOCATION:Bakersfield, CA 93306
TRANSP: OPAQUE
SEQUENCE:0
UID:
DTSTAMP:20260422T120355Z
SUMMARY:Estate Sale 60 % off - Cattle King Estates
DESCRIPTION:Estate Sale 60 % off - Cattle King Estates Complete Estate Management 
UID:1776881035
STREET-ADDRESS:See website
POSTAL-CODE:93306
LOCALITY:Bakersfield
REGION:ABBREV=CA
COUNTRY:ABBREV=US;ABBREV=USA:United States
URL;TYPE=Event Listing:https://estatesales.org/estate-sales/ca/bakersfield/93306/estate-sale-60-off-cattle-2339029
PRIORITY:1
CLASS:PUBLIC
SEQUENCE:0
STATUS:CONFIRMED
TRANSP:OPAQUE
END:VEVENT
END:VCALENDAR
