BEGIN:VCALENDAR
VERSION:2.0
METHOD:PUBLISH
BEGIN:VEVENT
DTSTART:20250913T160000Z
DTEND:20250914T210000Z
LOCATION:South Pasadena, CA 91030
TRANSP: OPAQUE
SEQUENCE:0
UID:
DTSTAMP:20260424T175441Z
SUMMARY:50%. OFF Grasons Prestige is in South Pasadena!
DESCRIPTION:50%. OFF Grasons Prestige is in South Pasadena! Grasons Co Prestige Pasadena & Territories  
UID:1777074881
STREET-ADDRESS:See website
POSTAL-CODE:91030
LOCALITY:South Pasadena
REGION:ABBREV=CA
COUNTRY:ABBREV=US;ABBREV=USA:United States
URL;TYPE=Event Listing:https://estatesales.org/estate-sales/ca/south-pasadena/91030/half-off-grasons-prestige-is-2397098
PRIORITY:1
CLASS:PUBLIC
SEQUENCE:0
STATUS:CONFIRMED
TRANSP:OPAQUE
END:VEVENT
END:VCALENDAR
