BEGIN:VCALENDAR
VERSION:2.0
METHOD:PUBLISH
BEGIN:VEVENT
DTSTART:20250913T150000Z
DTEND:20250914T200000Z
LOCATION:Tucson, AZ 85741
TRANSP: OPAQUE
SEQUENCE:0
UID:
DTSTAMP:20260420T051829Z
SUMMARY:Grasons 50% off - Sunday September 14 in Northwest Tucson (W Magee Rd/N Shannon Rd)
DESCRIPTION:Grasons 50% off - Sunday September 14 in Northwest Tucson (W Magee Rd/N Shannon Rd) Grasons Co of Southern Arizona 
UID:1776683909
STREET-ADDRESS:See website
POSTAL-CODE:85741
LOCALITY:Tucson
REGION:ABBREV=AZ
COUNTRY:ABBREV=US;ABBREV=USA:United States
URL;TYPE=Event Listing:https://estatesales.org/estate-sales/az/tucson/85741/grasons-50-off-sunday-september-2400464
PRIORITY:1
CLASS:PUBLIC
SEQUENCE:0
STATUS:CONFIRMED
TRANSP:OPAQUE
END:VEVENT
END:VCALENDAR
