BEGIN:VCALENDAR
VERSION:2.0
METHOD:PUBLISH
BEGIN:VEVENT
DTSTART:20240913T170000Z
DTEND:20240915T200000Z
LOCATION:Cedar Rapids, IA 52402
TRANSP: OPAQUE
SEQUENCE:0
UID:
DTSTAMP:20260422T084607Z
SUMMARY:Button, Button, Who's Got the Button?
DESCRIPTION:Button, Button, Who's Got the Button? White Lion Treasures 
UID:1776869167
STREET-ADDRESS:See website
POSTAL-CODE:52402
LOCALITY:Cedar Rapids
REGION:ABBREV=IA
COUNTRY:ABBREV=US;ABBREV=USA:United States
URL;TYPE=Event Listing:https://estatesales.org/estate-sales/ia/cedar-rapids/52402/button-button-whos-got-the-2335247
PRIORITY:1
CLASS:PUBLIC
SEQUENCE:0
STATUS:CONFIRMED
TRANSP:OPAQUE
END:VEVENT
END:VCALENDAR
