BEGIN:VCALENDAR
VERSION:2.0
METHOD:PUBLISH
BEGIN:VEVENT
DTSTART:20240913T160000Z
DTEND:20240914T213000Z
LOCATION:Torrance, CA 90505
TRANSP: OPAQUE
SEQUENCE:0
UID:
DTSTAMP:20260420T023448Z
SUMMARY:50% OFF Saturday 9/14 - Torrance Estate
DESCRIPTION:50% OFF Saturday 9/14 - Torrance Estate Diamond Heirlooms Estate Sales & Consulting  LLC 
UID:1776674088
STREET-ADDRESS:See website
POSTAL-CODE:90505
LOCALITY:Torrance
REGION:ABBREV=CA
COUNTRY:ABBREV=US;ABBREV=USA:United States
URL;TYPE=Event Listing:https://estatesales.org/estate-sales/ca/torrance/90505/50-off-saturday-914-torrance-2337814
PRIORITY:1
CLASS:PUBLIC
SEQUENCE:0
STATUS:CONFIRMED
TRANSP:OPAQUE
END:VEVENT
END:VCALENDAR
